BEGIN:VCALENDAR
VERSION:2.0
PRODID:-//caribgp - ECPv6.15.20//NONSGML v1.0//EN
CALSCALE:GREGORIAN
METHOD:PUBLISH
X-WR-CALNAME:caribgp
X-ORIGINAL-URL:https://caribgp.org
X-WR-CALDESC:Events for caribgp
REFRESH-INTERVAL;VALUE=DURATION:PT1H
X-Robots-Tag:noindex
X-PUBLISHED-TTL:PT1H
BEGIN:VTIMEZONE
TZID:America/Jamaica
BEGIN:STANDARD
TZOFFSETFROM:-0500
TZOFFSETTO:-0500
TZNAME:EST
DTSTART:20221231T160000
END:STANDARD
END:VTIMEZONE
BEGIN:VTIMEZONE
TZID:America/Guyana
BEGIN:STANDARD
TZOFFSETFROM:-0400
TZOFFSETTO:-0400
TZNAME:-04
DTSTART:20221231T160000
END:STANDARD
END:VTIMEZONE
BEGIN:VEVENT
DTSTART;VALUE=DATE:20250212
DTEND;VALUE=DATE:20250213
DTSTAMP:20260425T120205
CREATED:20250124T050739Z
LAST-MODIFIED:20250124T050739Z
UID:3101-1739376000-1739462399@caribgp.org
SUMMARY:Asthma*\, Diabetes
DESCRIPTION:TIME: 6:30 PM
URL:https://caribgp.org/event/asthma-diabetes/
LOCATION:Virtual Seminar
CATEGORIES:Event
END:VEVENT
BEGIN:VEVENT
DTSTART;VALUE=DATE:20250129
DTEND;VALUE=DATE:20250130
DTSTAMP:20260425T120205
CREATED:20250124T050151Z
LAST-MODIFIED:20250124T050151Z
UID:3096-1738166400-1738252799@caribgp.org
SUMMARY:ISN NEPHROLOGY LECTURE SERIES – SERIES 2
DESCRIPTION:TIME: 6:30PM
URL:https://caribgp.org/event/isn-nephrology-lecture-series-series-2/
LOCATION:Virtual Seminar
CATEGORIES:Event
END:VEVENT
BEGIN:VEVENT
DTSTART;VALUE=DATE:20250128
DTEND;VALUE=DATE:20250129
DTSTAMP:20260425T120205
CREATED:20250124T044121Z
LAST-MODIFIED:20250124T045359Z
UID:3087-1738080000-1738166399@caribgp.org
SUMMARY:EXPERT STRIDES
DESCRIPTION:TIME:6:30PM
URL:https://caribgp.org/event/virtual-seminars-thursdays-2/
LOCATION:Virtual Seminar
CATEGORIES:Event
END:VEVENT
BEGIN:VEVENT
DTSTART;VALUE=DATE:20250124
DTEND;VALUE=DATE:20250125
DTSTAMP:20260425T120205
CREATED:20250124T040959Z
LAST-MODIFIED:20250124T040959Z
UID:3076-1737734400-1737820799@caribgp.org
SUMMARY:Theme: Transforming Primary Care with Technology: AI\, Ethics\, and Digital Health
DESCRIPTION:TIME: 11:00AM
URL:https://caribgp.org/event/theme-transforming-primary-care-with-technology-ai-ethics-and-digital-health/
LOCATION:Virtual Conference
CATEGORIES:Event
END:VEVENT
BEGIN:VEVENT
DTSTART;VALUE=DATE:20250117
DTEND;VALUE=DATE:20250119
DTSTAMP:20260425T120205
CREATED:20250124T030514Z
LAST-MODIFIED:20250124T030514Z
UID:3023-1737129600-1737302399@caribgp.org
SUMMARY:VIRTUAL. CONFERENCES – SATURDAY AND SUNDAY
DESCRIPTION:TOPIC: One Health 2-day Conference @11:00AM
URL:https://caribgp.org/event/virtual-conferences-saturday-and-sunday/
LOCATION:Virtual Conference
CATEGORIES:Event
END:VEVENT
BEGIN:VEVENT
DTSTART;VALUE=DATE:20250114
DTEND;VALUE=DATE:20250115
DTSTAMP:20260425T120205
CREATED:20250124T043010Z
LAST-MODIFIED:20250124T045753Z
UID:3078-1736870400-1736956799@caribgp.org
SUMMARY:DR. REDDYS
DESCRIPTION:TIME: 6:30PM 
URL:https://caribgp.org/event/virtual-seminars-thursdays/
LOCATION:Virtual Seminar
CATEGORIES:Event
END:VEVENT
BEGIN:VEVENT
DTSTART;VALUE=DATE:20241204
DTEND;VALUE=DATE:20241205
DTSTAMP:20260425T120205
CREATED:20240107T125926Z
LAST-MODIFIED:20240107T125926Z
UID:2720-1733328000-1733414399@caribgp.org
SUMMARY:CCFP SECRETARIAT 2024 - CALENDAR
DESCRIPTION:CCFPJ VIRTUAL SEMINAR – MENTAL HEALTH\, ETHICS – AGM
URL:https://caribgp.org/event/ccfp-secretariat-2024-calendar-15/
CATEGORIES:Event
END:VEVENT
BEGIN:VEVENT
DTSTART;VALUE=DATE:20241127
DTEND;VALUE=DATE:20241128
DTSTAMP:20260425T120205
CREATED:20240107T125741Z
LAST-MODIFIED:20240107T125742Z
UID:2718-1732723200-1732809599@caribgp.org
SUMMARY:CCFP SECRETARIAT 2024 - CALENDAR
DESCRIPTION:CCFPJ VIRTUAL SEMINAR
URL:https://caribgp.org/event/ccfp-secretariat-2024-calendar-14/
CATEGORIES:Event
END:VEVENT
BEGIN:VEVENT
DTSTART;TZID=America/Jamaica:20241114T110000
DTEND;TZID=America/Jamaica:20241114T133000
DTSTAMP:20260425T120205
CREATED:20240723T115806Z
LAST-MODIFIED:20240723T115806Z
UID:2803-1731582000-1731591000@caribgp.org
SUMMARY:CCFP-ISN CONFERENCE
DESCRIPTION:COMING SOON
URL:https://caribgp.org/event/ccfp-isn-conference/
LOCATION:ZOOM ROOM\, WEB-TO-WEB\, Trinidad and Tobago
ORGANIZER;CN="Caribbean College of Family Physicians":MAILTO:familydoctorsregional@gmail.com
END:VEVENT
BEGIN:VEVENT
DTSTART;VALUE=DATE:20241019
DTEND;VALUE=DATE:20241020
DTSTAMP:20260425T120205
CREATED:20240107T125536Z
LAST-MODIFIED:20240107T125536Z
UID:2716-1729353600-1729439999@caribgp.org
SUMMARY:CCFP SECRETARIAT 2024 - CALENDAR
DESCRIPTION:CCFPJ CONFERENCE – MEN & WOMEN’S HEALTH
URL:https://caribgp.org/event/ccfp-secretariat-2024-calendar-13/
CATEGORIES:Event
END:VEVENT
BEGIN:VEVENT
DTSTART;TZID=America/Jamaica:20241009T103000
DTEND;TZID=America/Jamaica:20241009T130000
DTSTAMP:20260425T120205
CREATED:20240910T072450Z
LAST-MODIFIED:20240910T072450Z
UID:2866-1728469800-1728478800@caribgp.org
SUMMARY:GSK Guardians of Heart
DESCRIPTION:Programme Goals and Objectives \nGoal \nTo review the current therapeutic approaches in: \n\nCardiovascular Disease and its Burden in Jamaica\nVTE in Primary Care\n\nTopic 1: Objectives \n\nTo review local statistics and epidemiology of Cardiovascular Disease in Jamaica\nDiscussion on local data on Stroke and its appropriate management\n\nTopic 2: Objectives \n\nDiscuss the current guidelines in DVT assessment and management\nHighlight the role of DOACs and when to use in the Primary Care Setting\nReview Apixaban and its Efficacy and Safety Benefits\nTo review the current guidelines in Managing NVAF and the role of DOACs\n\nAGENDA DR\, REDDYS GUARDIAN OF THE HEART MEETING – October 9\, 2024
URL:https://caribgp.org/event/gsk-guardians-of-heart/
LOCATION:ZOOM ROOM\, WEB-TO-WEB\, Trinidad and Tobago
ORGANIZER;CN="Caribbean College of Family Physicians":MAILTO:familydoctorsregional@gmail.com
END:VEVENT
BEGIN:VEVENT
DTSTART;TZID=America/Jamaica:20240929T020000
DTEND;TZID=America/Jamaica:20240929T070000
DTSTAMP:20260425T120205
CREATED:20240730T065945Z
LAST-MODIFIED:20240730T065945Z
UID:2827-1727575200-1727593200@caribgp.org
SUMMARY:AGPJ-NCD MEETING - 29 SEPTEMBER - VIRTUAL
DESCRIPTION:AGPJ NCD MEETING – INFORMATION COMING SOON
URL:https://caribgp.org/event/agpj-ncd-meeting-29-september-virtual/
LOCATION:ZOOM ROOM\, WEB-TO-WEB\, Trinidad and Tobago
END:VEVENT
BEGIN:VEVENT
DTSTART;TZID=America/Jamaica:20240925T223000
DTEND;TZID=America/Jamaica:20240926T133000
DTSTAMP:20260425T120205
CREATED:20240730T092701Z
LAST-MODIFIED:20240730T092701Z
UID:2831-1727303400-1727357400@caribgp.org
SUMMARY:CCFPJ - MANAGING OBESITY IN PRIMARY CARE
DESCRIPTION:MANAGING OBESITY IN PRIMARY CARE \nTOPICS \n\n Weight Loss Diets –\n Using pharmacothrapy for weight loss –\nPharmacotherapy for weight loss in Diabetes\n\nPRESENTERS – TBA \nREGISTRATION DETAILS – TBA
URL:https://caribgp.org/event/ccfpj-managing-obesity-in-primary-care/
LOCATION:ZOOM ROOM\, WEB-TO-WEB\, Trinidad and Tobago
ORGANIZER;CN="Caribbean College of Family Physicians":MAILTO:familydoctorsregional@gmail.com
END:VEVENT
BEGIN:VEVENT
DTSTART;TZID=America/Jamaica:20240924T110000
DTEND;TZID=America/Jamaica:20240924T130000
DTSTAMP:20260425T120205
CREATED:20240814T072901Z
LAST-MODIFIED:20240910T072939Z
UID:2835-1727175600-1727182800@caribgp.org
SUMMARY:DR REDDYS MEETING WITH DR TREVOR FERGUSON
DESCRIPTION:INFO COMING SOON
URL:https://caribgp.org/event/dr-reddys-meeting-with-dr-trevor-ferguson/
LOCATION:ZOOM ROOM\, WEB-TO-WEB\, Trinidad and Tobago
ORGANIZER;CN="Caribbean College of Family Physicians":MAILTO:familydoctorsregional@gmail.com
END:VEVENT
BEGIN:VEVENT
DTSTART;VALUE=DATE:20240914
DTEND;VALUE=DATE:20240915
DTSTAMP:20260425T120205
CREATED:20240107T125257Z
LAST-MODIFIED:20240107T125258Z
UID:2714-1726329600-1726415999@caribgp.org
SUMMARY:CCFP SECRETARIAT 2024 - CALENDAR
DESCRIPTION:CCFPJ CONFERENCE – ORTHOPAEDIC
URL:https://caribgp.org/event/ccfp-secretariat-2024-calendar-12/
CATEGORIES:Event
END:VEVENT
BEGIN:VEVENT
DTSTART;TZID=America/Jamaica:20240825T000000
DTEND;TZID=America/Jamaica:20240825T090000
DTSTAMP:20260425T120205
CREATED:20240723T120300Z
LAST-MODIFIED:20240730T065644Z
UID:2805-1724544000-1724576400@caribgp.org
SUMMARY:AGPJ-SANDOZ GYNAECOLOGY MEETING
DESCRIPTION:
URL:https://caribgp.org/event/sandoz-gynaecology-meeting/
LOCATION:AC HOTEL\, KINGSTON\, Jamaica
END:VEVENT
BEGIN:VEVENT
DTSTART;VALUE=DATE:20240821
DTEND;VALUE=DATE:20240822
DTSTAMP:20260425T120205
CREATED:20240107T125116Z
LAST-MODIFIED:20240107T125116Z
UID:2712-1724256000-1724342399@caribgp.org
SUMMARY:CCFP SECRETARIAT 2024 - CALENDAR
DESCRIPTION:CCFPJ VIRTUAL SEMINAR –
URL:https://caribgp.org/event/ccfp-secretariat-2024-calendar-11/
CATEGORIES:Event
END:VEVENT
BEGIN:VEVENT
DTSTART;TZID=America/Guyana:20240727T020000
DTEND;TZID=America/Guyana:20240727T063000
DTSTAMP:20260425T120205
CREATED:20240724T051126Z
LAST-MODIFIED:20240726T225421Z
UID:2809-1722045600-1722061800@caribgp.org
SUMMARY:CLIMATE CHANGE\, HEALTH\, SEPSIS & JUSTICE CONFERENCE
DESCRIPTION:Speakers with Zoom \nProgram-2 \nABSTRACT – Climate Change\, Health\, Sepsis and Justice Conference 2024 \nREGISTRATION: https://sta-uwi-edu.zoom.us/webinar/register/WN_HMEmS2tRSdWst2vP5IBfmg \nPOSTER: https://drive.google.com/drive/folders/11RMNmYG_8_74CEqN7iIzCart-iZuBj9L?usp=drive_link \nLIGHTENING TALKS: https://drive.google.com/drive/folders/1J8lBoYnf-zllI3pa4XZ8KQ9D-3kHEvj_?usp=sharing  \nFREE HYBRID EVENT AND CMES ARE FREE : 3 HOURS CREDIT \nEVENT BEGINS 10:00 AM GUYANA/EASTERN CARIBBEAN TIME/9:00 AM JAMAICA TIME
URL:https://caribgp.org/event/climate-change-health-sepsis-justice-conference/
LOCATION:Guyana Marriot Hotel\, Guyana
END:VEVENT
BEGIN:VEVENT
DTSTART;VALUE=DATE:20240713
DTEND;VALUE=DATE:20240714
DTSTAMP:20260425T120205
CREATED:20240107T124812Z
LAST-MODIFIED:20240107T124812Z
UID:2710-1720886400-1720972799@caribgp.org
SUMMARY:CCFP SECRETARIAT 2024 - CALENDAR
DESCRIPTION:CCFPJ VIRTUAL CONFERENCE – CARDIAC/CARDIOVASCULAR & VASCULAR
URL:https://caribgp.org/event/ccfp-secretariat-2024-calendar-10/
CATEGORIES:Event
END:VEVENT
BEGIN:VEVENT
DTSTART;TZID=America/Jamaica:20240627T103000
DTEND;TZID=America/Jamaica:20240627T140000
DTSTAMP:20260425T120205
CREATED:20240510T074315Z
LAST-MODIFIED:20240510T074611Z
UID:2763-1719484200-1719496800@caribgp.org
SUMMARY:CCFP REGIONAL DISTINGUISHED LECTURE 1 - NEPHROLOGY
DESCRIPTION:CCFP REGIONAL VIRTUAL SEMINAR – NEPHROLOGY
URL:https://caribgp.org/event/ccfp-regional-distinguished-lecture-1-nephrology/
LOCATION:ZOOM ROOM\, WEB-TO-WEB\, Trinidad and Tobago
ORGANIZER;CN="Caribbean College of Family Physicians":MAILTO:familydoctorsregional@gmail.com
END:VEVENT
BEGIN:VEVENT
DTSTART;VALUE=DATE:20240619
DTEND;VALUE=DATE:20240620
DTSTAMP:20260425T120205
CREATED:20240107T124246Z
LAST-MODIFIED:20240107T124246Z
UID:2708-1718812800-1718899199@caribgp.org
SUMMARY:CCFP SECRETARIAT 2024 - CALENDAR
DESCRIPTION:CCFPJ VIRTUAL SEMINAR –
URL:https://caribgp.org/event/ccfp-secretariat-2024-calendar-9/
CATEGORIES:Event
END:VEVENT
BEGIN:VEVENT
DTSTART;VALUE=DATE:20240518
DTEND;VALUE=DATE:20240519
DTSTAMP:20260425T120205
CREATED:20240107T124016Z
LAST-MODIFIED:20240107T124016Z
UID:2706-1716048000-1716134399@caribgp.org
SUMMARY:CCFP SECRETARIAT 2024 - CALENDAR
DESCRIPTION:CCFP WORLD FAMILY DOCTOR DAY CONFERENCE
URL:https://caribgp.org/event/ccfp-secretariat-2024-calendar-8/
CATEGORIES:Event
END:VEVENT
BEGIN:VEVENT
DTSTART;VALUE=DATE:20240424
DTEND;VALUE=DATE:20240425
DTSTAMP:20260425T120205
CREATED:20240107T123749Z
LAST-MODIFIED:20240107T123749Z
UID:2704-1713974400-1714060799@caribgp.org
SUMMARY:CCFP SECRETARIAT 2024 - CALENDAR
DESCRIPTION:CCFPJ VIRTUAL SEMINAR – MENTAL HEALTH & ETHICS VIRTUAL SEMINAR
URL:https://caribgp.org/event/ccfp-secretariat-2024-calendar-7/
CATEGORIES:Event
END:VEVENT
BEGIN:VEVENT
DTSTART;VALUE=DATE:20240323
DTEND;VALUE=DATE:20240324
DTSTAMP:20260425T120205
CREATED:20240107T123538Z
LAST-MODIFIED:20240107T123538Z
UID:2702-1711209600-1711295999@caribgp.org
SUMMARY:CCFP SECRETARIAT 2024 - CALENDAR
DESCRIPTION:CCFPJ CONFERENCE – NEUROLOGY
URL:https://caribgp.org/event/ccfp-secretariat-2024-calendar-6/
CATEGORIES:Event
END:VEVENT
BEGIN:VEVENT
DTSTART;VALUE=DATE:20240320
DTEND;VALUE=DATE:20240321
DTSTAMP:20260425T120205
CREATED:20240107T123237Z
LAST-MODIFIED:20240107T123237Z
UID:2700-1710950400-1711036799@caribgp.org
SUMMARY:CCFP SECRETARIAT 2024 - CALENDAR
DESCRIPTION:CCFP – REGIONAL – DISTINGUISHED LECTURE
URL:https://caribgp.org/event/ccfp-secretariat-2024-calendar-5/
CATEGORIES:Event
END:VEVENT
BEGIN:VEVENT
DTSTART;VALUE=DATE:20240303
DTEND;VALUE=DATE:20250401
DTSTAMP:20260425T120205
CREATED:20231021T084335Z
LAST-MODIFIED:20231021T084347Z
UID:2527-1709481600-1743523199@caribgp.org
SUMMARY:Caribbean Asthma-Allergy Program (CAAP)
DESCRIPTION:https://caribbeanasthma-allergyprogram.com/\n\nCaribbean Asthma-Allergy Program (CAAP)\, a valuable initiative  conducted by International Asthma Services (IAS) in Colorado\,USA supported by American Allergy Asthma Immunology and Center of Global Health   This program is of significant importance for healthcare professionals and individuals in the field of asthma and allergy management within the Caribbean region. \nThe Caribbean Asthma-Allergy Program (CAAP) aims to provide essential training and knowledge in the diagnosis\, treatment\, and management of asthma and allergies. This program has been meticulously designed to enhance the skills and expertise of healthcare professionals\, thereby improving the quality of care provided to individuals suffering from asthma and allergies in the Caribbean region. It will be a hybrid course and additional information  about the CAAP course\, including enrollment information and program specifics\, please visit the official website at the following link: \n\nhttps://caribbeanasthma-allergyprogram.com/\nIf you have any questions or require additional information\, please do not hesitate to contact us at admin@caribbeanasthma-allergyprogram.com.We sincerely appreciate your attention to this matter and look forward to your support in promoting the Caribbean Asthma-Allergy Program (CAAP). \nThank you for your dedication to improving healthcare in the Caribbean region. \n\n\nCAAP Course Director\n\nDr. Kandamaran Krishnamurthy\nMBBS DM (Pediatrics)\, FRCPCH\,FCCM\, DAA\, PGPN\nConsultant Pediatric Intensive Care Unit\nQueen Elizabeth Hospital\, Barbados\nSenior Associate Lecturer in Pediatrics\nFaculty of Medical Sciences\, Cave Hill Campus\, The University of the West Indies\, St. Michael\, Barbados.\nConsultant Pediatrician at ARS Medicae \,6th Avenue\, Belleville St Michael. Barbados.\nTel +1246 2600036    Fax +1246 4295374\nLinkedIn:  https://www.linkedin.com/in/kandamaran-krishnamurthy-b8602b20\nResearchGate: https://www.researchgate.net/profile/Kandamaran_Krishnamurthy\nPubMed:  https://pubmed.ncbi.nlm.nih.gov/?term=kandamaran%20krishnamurthy&page=2
URL:https://caribgp.org/event/caribbean-asthma-allergy-program-caap/
ORGANIZER;CN="Caribbean Asthma-Allergy Program (CAAP)":MAILTO:admin@caribbeanasthma-allergyprogram.com
END:VEVENT
BEGIN:VEVENT
DTSTART;VALUE=DATE:20240210
DTEND;VALUE=DATE:20240211
DTSTAMP:20260425T120205
CREATED:20240107T122933Z
LAST-MODIFIED:20240107T122933Z
UID:2698-1707580800-1707667199@caribgp.org
SUMMARY:CCFP SECRETARIAT 2024 - CALENDAR
DESCRIPTION:CCFPJ VIRTUAL SEMINAR – CANCERS
URL:https://caribgp.org/event/ccfp-secretariat-2024-calendar-4/
CATEGORIES:Event
END:VEVENT
BEGIN:VEVENT
DTSTART;VALUE=DATE:20240124
DTEND;VALUE=DATE:20240125
DTSTAMP:20260425T120205
CREATED:20240107T122714Z
LAST-MODIFIED:20240107T122715Z
UID:2696-1706112000-1706198399@caribgp.org
SUMMARY:CCFP SECRETARIAT 2024 - CALENDAR
DESCRIPTION:CCFPJ VIRTUAL SEMINAR – OPTIMIZING ADOLESCENT HEALTH – PT 2
URL:https://caribgp.org/event/ccfp-secretariat-2024-calendar-3/
CATEGORIES:Event
END:VEVENT
BEGIN:VEVENT
DTSTART;VALUE=DATE:20240113
DTEND;VALUE=DATE:20240114
DTSTAMP:20260425T120205
CREATED:20240107T122524Z
LAST-MODIFIED:20240107T122524Z
UID:2694-1705161600-1705247999@caribgp.org
SUMMARY:CCFP SECRETARIAT 2024 - CALENDAR
DESCRIPTION:DAY 2 -CCFP-JVMA ONE HEALTH CONFERENCE
URL:https://caribgp.org/event/ccfp-secretariat-2024-calendar-2/
CATEGORIES:Event
END:VEVENT
BEGIN:VEVENT
DTSTART;VALUE=DATE:20240112
DTEND;VALUE=DATE:20240113
DTSTAMP:20260425T120205
CREATED:20240107T122355Z
LAST-MODIFIED:20240107T122355Z
UID:2692-1705075200-1705161599@caribgp.org
SUMMARY:CCFP SECRETARIAT 2024 - CALENDAR
DESCRIPTION:DAY 1 -CCFP-JVMA ONE HEALTH CONFERENCE
URL:https://caribgp.org/event/ccfp-secretariat-2024-calendar/
CATEGORIES:Event
END:VEVENT
END:VCALENDAR