BEGIN:VCALENDAR
VERSION:2.0
PRODID:-//caribgp - ECPv6.15.20//NONSGML v1.0//EN
CALSCALE:GREGORIAN
METHOD:PUBLISH
X-WR-CALNAME:caribgp
X-ORIGINAL-URL:https://caribgp.org
X-WR-CALDESC:Events for caribgp
REFRESH-INTERVAL;VALUE=DURATION:PT1H
X-Robots-Tag:noindex
X-PUBLISHED-TTL:PT1H
BEGIN:VTIMEZONE
TZID:UTC
BEGIN:STANDARD
TZOFFSETFROM:+0000
TZOFFSETTO:+0000
TZNAME:UTC
DTSTART:20211231T160000
END:STANDARD
END:VTIMEZONE
BEGIN:VTIMEZONE
TZID:America/Jamaica
BEGIN:STANDARD
TZOFFSETFROM:-0500
TZOFFSETTO:-0500
TZNAME:EST
DTSTART:20211231T160000
END:STANDARD
END:VTIMEZONE
BEGIN:VEVENT
DTSTART;TZID=UTC:20231008T020000
DTEND;TZID=UTC:20231008T040000
DTSTAMP:20260425T062336
CREATED:20221227T032958Z
LAST-MODIFIED:20221227T032958Z
UID:2239-1696730400-1696737600@caribgp.org
SUMMARY:AGPJ COLLABORATIVE CONFERENCE
DESCRIPTION:AGPJ COLLABORATIVE CONFERENCE
URL:https://caribgp.org/event/agpj-collaborative-conference/
END:VEVENT
BEGIN:VEVENT
DTSTART;TZID=UTC:20230928T110000
DTEND;TZID=UTC:20230928T130000
DTSTAMP:20260425T062336
CREATED:20221227T032431Z
LAST-MODIFIED:20221227T032431Z
UID:2237-1695898800-1695906000@caribgp.org
SUMMARY:CCFP/AGPJ WORLD HEART DAY - CARDIOVASCULAR SEMINAR
DESCRIPTION:CCFP/AGPJ WORLD HEART DAY – CARDIOVASCULAR SEMINAR
URL:https://caribgp.org/event/ccfp-agpj-world-heart-day-cardiovascular-seminar/
END:VEVENT
BEGIN:VEVENT
DTSTART;TZID=UTC:20230917T020000
DTEND;TZID=UTC:20230917T040000
DTSTAMP:20260425T062336
CREATED:20221227T032156Z
LAST-MODIFIED:20221227T034931Z
UID:2235-1694916000-1694923200@caribgp.org
SUMMARY:CCFPJ CONFERENCE
DESCRIPTION:CCFPJ CONFERENCE
URL:https://caribgp.org/event/ccfpj-conference-3/
END:VEVENT
BEGIN:VEVENT
DTSTART;TZID=UTC:20230907T110000
DTEND;TZID=UTC:20230907T123000
DTSTAMP:20260425T062336
CREATED:20221227T031954Z
LAST-MODIFIED:20221227T031955Z
UID:2233-1694084400-1694089800@caribgp.org
SUMMARY:CCFP COLLABORATIVE MEDICAL WEBINAR
DESCRIPTION:CCFP COLLABORATIVE MEDICAL WEBINAR
URL:https://caribgp.org/event/ccfp-collaborative-medical-webinar-4/
END:VEVENT
BEGIN:VEVENT
DTSTART;VALUE=DATE:20230823
DTEND;VALUE=DATE:20230824
DTSTAMP:20260425T062336
CREATED:20221222T133145Z
LAST-MODIFIED:20221222T133146Z
UID:2230-1692806400-1692892799@caribgp.org
SUMMARY:CCFPJ SEMINAR
DESCRIPTION:CCFPJ SEMINAR
URL:https://caribgp.org/event/ccfpj-seminar-3/
END:VEVENT
BEGIN:VEVENT
DTSTART;VALUE=DATE:20230809
DTEND;VALUE=DATE:20230810
DTSTAMP:20260425T062336
CREATED:20221222T132617Z
LAST-MODIFIED:20221222T132617Z
UID:2228-1691596800-1691683199@caribgp.org
SUMMARY:AGPJ COLLABORATIVE MEDICAL WEBINAR
DESCRIPTION:AGPJ COLLABORATIVE MEDICAL WEBINAR
URL:https://caribgp.org/event/agpj-collaborative-medical-webinar-4/
END:VEVENT
BEGIN:VEVENT
DTSTART;VALUE=DATE:20230726
DTEND;VALUE=DATE:20230727
DTSTAMP:20260425T062336
CREATED:20221222T132315Z
LAST-MODIFIED:20221222T132316Z
UID:2226-1690387200-1690473599@caribgp.org
SUMMARY:AGPJ-MEDIMPEX ETHICS WEBINAR
DESCRIPTION:AGPJ-MEDIMPEX ETHICS WEBINAR
URL:https://caribgp.org/event/agpj-medimpex-ethics-webinar/
END:VEVENT
BEGIN:VEVENT
DTSTART;VALUE=DATE:20230722
DTEND;VALUE=DATE:20230723
DTSTAMP:20260425T062336
CREATED:20221222T132014Z
LAST-MODIFIED:20221222T132014Z
UID:2224-1690041600-1690127999@caribgp.org
SUMMARY:CCFPJ CONFERENCE
DESCRIPTION:CCFPJ CONFERENCE
URL:https://caribgp.org/event/ccfpj-conference-2/
END:VEVENT
BEGIN:VEVENT
DTSTART;VALUE=DATE:20230719
DTEND;VALUE=DATE:20230720
DTSTAMP:20260425T062336
CREATED:20221222T131751Z
LAST-MODIFIED:20221222T131751Z
UID:2222-1689782400-1689868799@caribgp.org
SUMMARY:CCFP COLLABORATIVE MEDICAL WEBINAR
DESCRIPTION:CCFP COLLABORATIVE MEDICAL WEBINAR
URL:https://caribgp.org/event/ccfp-collaborative-medical-webinar-3/
END:VEVENT
BEGIN:VEVENT
DTSTART;VALUE=DATE:20230701
DTEND;VALUE=DATE:20230702
DTSTAMP:20260425T062336
CREATED:20221222T131437Z
LAST-MODIFIED:20221222T131438Z
UID:2220-1688227200-1688313599@caribgp.org
SUMMARY:AGPJ VIRTUAL CONFERENCE
DESCRIPTION:AGPJ VIRTUAL CONFERENCE
URL:https://caribgp.org/event/agpj-virtual-conference/
END:VEVENT
BEGIN:VEVENT
DTSTART;VALUE=DATE:20230628
DTEND;VALUE=DATE:20230629
DTSTAMP:20260425T062336
CREATED:20221222T131229Z
LAST-MODIFIED:20221222T131229Z
UID:2218-1687968000-1688054399@caribgp.org
SUMMARY:AGPJ VIRTUAL SEMINAR
DESCRIPTION:AGPJ VIRTUAL SEMINAR
URL:https://caribgp.org/event/agpj-virtual-seminar-2/
END:VEVENT
BEGIN:VEVENT
DTSTART;VALUE=DATE:20230614
DTEND;VALUE=DATE:20230615
DTSTAMP:20260425T062336
CREATED:20221222T131026Z
LAST-MODIFIED:20221222T131026Z
UID:2216-1686758400-1686844799@caribgp.org
SUMMARY:CCFPJ VIRTUAL SEMINAR
DESCRIPTION:CCFPJ VIRTUAL SEMINAR
URL:https://caribgp.org/event/ccfpj-virtual-seminar/
END:VEVENT
BEGIN:VEVENT
DTSTART;VALUE=DATE:20230520
DTEND;VALUE=DATE:20230521
DTSTAMP:20260425T062336
CREATED:20221222T130756Z
LAST-MODIFIED:20221222T130756Z
UID:2214-1684598400-1684684799@caribgp.org
SUMMARY:CCFP FAMILY DOCTOR DAY CONFERENCE
DESCRIPTION:CCFP FAMILY DOCTOR DAY CONFERENCE
URL:https://caribgp.org/event/ccfp-family-doctor-day-conference/
END:VEVENT
BEGIN:VEVENT
DTSTART;VALUE=DATE:20230518
DTEND;VALUE=DATE:20230519
DTSTAMP:20260425T062336
CREATED:20221222T130550Z
LAST-MODIFIED:20221222T130551Z
UID:2212-1684425600-1684511999@caribgp.org
SUMMARY:WORLD FAMILY DOCTOR DAY
DESCRIPTION:WORLD FAMILY DOCTOR DAY
URL:https://caribgp.org/event/world-family-doctor-day/
END:VEVENT
BEGIN:VEVENT
DTSTART;VALUE=DATE:20230517
DTEND;VALUE=DATE:20230518
DTSTAMP:20260425T062336
CREATED:20221222T130358Z
LAST-MODIFIED:20221222T130359Z
UID:2210-1684339200-1684425599@caribgp.org
SUMMARY:AGPJ COLLABORATIVE MEDICAL WEBINAR
DESCRIPTION:AGPJ COLLABORATIVE MEDICAL WEBINAR
URL:https://caribgp.org/event/agpj-collaborative-medical-webinar-3/
END:VEVENT
BEGIN:VEVENT
DTSTART;VALUE=DATE:20230516
DTEND;VALUE=DATE:20230517
DTSTAMP:20260425T062336
CREATED:20221222T130134Z
LAST-MODIFIED:20221222T130134Z
UID:2208-1684252800-1684339199@caribgp.org
SUMMARY:CCFP/AGPJ WORLD HYPERTENSION DAY - PROPOSED
DESCRIPTION:CCFP/AGPJ WORLD HYPERTENSION DAY – PROPOSED
URL:https://caribgp.org/event/ccfp-agpj-world-hypertension-day-proposed/
END:VEVENT
BEGIN:VEVENT
DTSTART;VALUE=DATE:20230505
DTEND;VALUE=DATE:20230506
DTSTAMP:20260425T062336
CREATED:20221222T125946Z
LAST-MODIFIED:20221222T125946Z
UID:2206-1683302400-1683388799@caribgp.org
SUMMARY:AGPJ - NATIONAL NURSES DAY
DESCRIPTION:AGPJ – NATIONAL NURSES DAY
URL:https://caribgp.org/event/agpj-national-nurses-day/
END:VEVENT
BEGIN:VEVENT
DTSTART;VALUE=DATE:20230501
DTEND;VALUE=DATE:20230502
DTSTAMP:20260425T062336
CREATED:20221222T125800Z
LAST-MODIFIED:20221222T125800Z
UID:2204-1682956800-1683043199@caribgp.org
SUMMARY:CCFP/AGPJ WORLD ASTHMA DAY 2023 - COLLABORATIVE SEMINAR
DESCRIPTION:CCFP/AGPJ WORLD ASTHMA DAY 2023 – COLLABORATIVE SEMINAR
URL:https://caribgp.org/event/ccfp-agpj-world-asthma-day-2023-collaborative-seminar/
END:VEVENT
BEGIN:VEVENT
DTSTART;VALUE=DATE:20230426
DTEND;VALUE=DATE:20230427
DTSTAMP:20260425T062336
CREATED:20221222T125540Z
LAST-MODIFIED:20221222T125541Z
UID:2202-1682524800-1682611199@caribgp.org
SUMMARY:CCFPJ VIRTUALSEMINAR
DESCRIPTION:CCFPJ VIRTUALSEMINAR
URL:https://caribgp.org/event/ccfpj-virtualseminar/
END:VEVENT
BEGIN:VEVENT
DTSTART;VALUE=DATE:20230418
DTEND;VALUE=DATE:20230419
DTSTAMP:20260425T062336
CREATED:20221222T124850Z
LAST-MODIFIED:20221222T124851Z
UID:2200-1681833600-1681919999@caribgp.org
SUMMARY:AGPJ COLLABORATIVE MEDICAL WEBINAR
DESCRIPTION:AGPJ COLLABORATIVE MEDICAL WEBINAR
URL:https://caribgp.org/event/agpj-collaborative-medical-webinar-2/
END:VEVENT
BEGIN:VEVENT
DTSTART;VALUE=DATE:20230415
DTEND;VALUE=DATE:20230416
DTSTAMP:20260425T062336
CREATED:20221222T124329Z
LAST-MODIFIED:20221222T124329Z
UID:2198-1681574400-1681660799@caribgp.org
SUMMARY:AGPJ CONFERENCE
DESCRIPTION:AGPJ CONFERENCE
URL:https://caribgp.org/event/agpj-conference-2/
END:VEVENT
BEGIN:VEVENT
DTSTART;VALUE=DATE:20230329
DTEND;VALUE=DATE:20230330
DTSTAMP:20260425T062336
CREATED:20221222T123717Z
LAST-MODIFIED:20221222T123717Z
UID:2196-1680105600-1680191999@caribgp.org
SUMMARY:CCFP COLLABORATIVE MEDICAL WEBINAR
DESCRIPTION:CCFP COLLABORATIVE MEDICAL WEBINAR
URL:https://caribgp.org/event/ccfp-collaborative-medical-webinar-2/
END:VEVENT
BEGIN:VEVENT
DTSTART;VALUE=DATE:20230318
DTEND;VALUE=DATE:20230319
DTSTAMP:20260425T062336
CREATED:20221222T123230Z
LAST-MODIFIED:20221222T123231Z
UID:2194-1679155200-1679241599@caribgp.org
SUMMARY:CCFP DISTINGUISHED LECTURE
DESCRIPTION:CCFP DISTINGUISHED LECTURE
URL:https://caribgp.org/event/ccfp-distinguished-lecture/
END:VEVENT
BEGIN:VEVENT
DTSTART;VALUE=DATE:20230315
DTEND;VALUE=DATE:20230316
DTSTAMP:20260425T062336
CREATED:20221222T122641Z
LAST-MODIFIED:20221222T122641Z
UID:2192-1678896000-1678982399@caribgp.org
SUMMARY:AGPJ VIRTUAL SEMINAR
DESCRIPTION:AGPJ VIRTUAL SEMINAR
URL:https://caribgp.org/event/agpj-virtual-seminar/
END:VEVENT
BEGIN:VEVENT
DTSTART;VALUE=DATE:20230307
DTEND;VALUE=DATE:20230308
DTSTAMP:20260425T062336
CREATED:20221222T122423Z
LAST-MODIFIED:20221222T122423Z
UID:2190-1678204800-1678291199@caribgp.org
SUMMARY:AGPJ/CCFP WOMEN'S DAY - COLLABORATIVE WEBINAR
DESCRIPTION:AGPJ/CCFP WOMEN’S DAY – COLLABORATIVE WEBINAR
URL:https://caribgp.org/event/agpj-ccfp-womens-day-collaborative-webinar/
END:VEVENT
BEGIN:VEVENT
DTSTART;VALUE=DATE:20230228
DTEND;VALUE=DATE:20230301
DTSTAMP:20260425T062337
CREATED:20221222T122046Z
LAST-MODIFIED:20221222T122047Z
UID:2188-1677600000-1677686399@caribgp.org
SUMMARY:CCFP/AGPJ GLOBAL ETHICS DAY 2023 - SEMINAR
DESCRIPTION:CCFP/AGPJ GLOBAL ETHICS DAY 2023 – SEMINAR
URL:https://caribgp.org/event/ccfp-agpj-global-ethics-day-2023-seminar/
END:VEVENT
BEGIN:VEVENT
DTSTART;VALUE=DATE:20230227
DTEND;VALUE=DATE:20230228
DTSTAMP:20260425T062337
CREATED:20221222T121628Z
LAST-MODIFIED:20221222T121628Z
UID:2186-1677513600-1677599999@caribgp.org
SUMMARY:CCFP COLLABORATIVE MEDICAL WEBINAR
DESCRIPTION:CCFP COLLABORATIVE MEDICAL WEBINAR
URL:https://caribgp.org/event/ccfp-collaborative-medical-webinar/
END:VEVENT
BEGIN:VEVENT
DTSTART;VALUE=DATE:20230218
DTEND;VALUE=DATE:20230219
DTSTAMP:20260425T062337
CREATED:20221222T121359Z
LAST-MODIFIED:20221222T121359Z
UID:2184-1676736000-1676822399@caribgp.org
SUMMARY:CCFPJ CONFERENCE
DESCRIPTION:CCFPJ CONFERENCE
URL:https://caribgp.org/event/ccfpj-conference/
END:VEVENT
BEGIN:VEVENT
DTSTART;VALUE=DATE:20230208
DTEND;VALUE=DATE:20230209
DTSTAMP:20260425T062337
CREATED:20221222T120922Z
LAST-MODIFIED:20221222T120922Z
UID:2182-1675872000-1675958399@caribgp.org
SUMMARY:AGPJ COLLABORATIVE MEDICAL WEBINAR
DESCRIPTION:AGPJ COLLABORATIVE MEDICAL WEBINAR
URL:https://caribgp.org/event/agpj-collaborative-medical-webinar/
END:VEVENT
BEGIN:VEVENT
DTSTART;VALUE=DATE:20230128
DTEND;VALUE=DATE:20230129
DTSTAMP:20260425T062337
CREATED:20221222T120601Z
LAST-MODIFIED:20221222T120602Z
UID:2180-1674921600-1675007999@caribgp.org
SUMMARY:AGPJ CONFERENCE
DESCRIPTION:AGPJ CONFERENCE
URL:https://caribgp.org/event/agpj-conference/
END:VEVENT
END:VCALENDAR