BEGIN:VCALENDAR
VERSION:2.0
PRODID:-//caribgp - ECPv6.15.20//NONSGML v1.0//EN
CALSCALE:GREGORIAN
METHOD:PUBLISH
X-ORIGINAL-URL:https://caribgp.org
X-WR-CALDESC:Events for caribgp
REFRESH-INTERVAL;VALUE=DURATION:PT1H
X-Robots-Tag:noindex
X-PUBLISHED-TTL:PT1H
BEGIN:VTIMEZONE
TZID:America/Jamaica
BEGIN:STANDARD
TZOFFSETFROM:-0500
TZOFFSETTO:-0500
TZNAME:EST
DTSTART:20231231T160000
END:STANDARD
END:VTIMEZONE
BEGIN:VEVENT
DTSTART;VALUE=DATE:20250318
DTEND;VALUE=DATE:20250319
DTSTAMP:20260425T094340
CREATED:20250124T051316Z
LAST-MODIFIED:20250124T051316Z
UID:3103-1742313600-1742399999@caribgp.org
SUMMARY:DR. REDDYS
DESCRIPTION:TIME: 6:30 PM
URL:https://caribgp.org/event/dr-reddys/
LOCATION:Virtual Seminar
CATEGORIES:Event
END:VEVENT
BEGIN:VEVENT
DTSTART;VALUE=DATE:20250412
DTEND;VALUE=DATE:20250413
DTSTAMP:20260425T094340
CREATED:20250124T032521Z
LAST-MODIFIED:20250124T032521Z
UID:3047-1744473600-1744559999@caribgp.org
SUMMARY:Theme: Tackling NCDs in the Caribbean: A Comprehensive Approach\, Diabetes(DLS)*
DESCRIPTION:TIME: @11:00AM
URL:https://caribgp.org/event/theme-tackling-ncds-in-the-caribbean-a-comprehensive-approach-diabetesdls/
LOCATION:Virtual Conference
CATEGORIES:Event
END:VEVENT
BEGIN:VEVENT
DTSTART;VALUE=DATE:20250517
DTEND;VALUE=DATE:20250518
DTSTAMP:20260425T094340
CREATED:20250124T032921Z
LAST-MODIFIED:20250124T032921Z
UID:3052-1747497600-1747583999@caribgp.org
SUMMARY:WORLD FAMILY DOCTOR DAY Virtual Conference
DESCRIPTION:TIME: @11:00AM
URL:https://caribgp.org/event/world-family-doctor-day-virtual-conference/
LOCATION:Virtual Conference
CATEGORIES:Event
END:VEVENT
BEGIN:VEVENT
DTSTART;VALUE=DATE:20250603
DTEND;VALUE=DATE:20250611
DTSTAMP:20260425T094340
CREATED:20250124T061427Z
LAST-MODIFIED:20250124T061427Z
UID:3112-1748966400-1749657599@caribgp.org
SUMMARY:Heart Disease Theme: Modern Approaches to Managing Cardiovascular Disease + Oral Health & Heart Disease
DESCRIPTION:TIME: 6:30 PM
URL:https://caribgp.org/event/heart-disease-theme-modern-approaches-to-managing-cardiovascular-disease-oral-health-heart-disease/
LOCATION:Virtual Seminar
CATEGORIES:Event
END:VEVENT
BEGIN:VEVENT
DTSTART;VALUE=DATE:20250617
DTEND;VALUE=DATE:20250618
DTSTAMP:20260425T094340
CREATED:20250124T062316Z
LAST-MODIFIED:20250124T062316Z
UID:3116-1750176000-1750262399@caribgp.org
SUMMARY:ASTHMA:  Theme: Advancing Asthma Care: Precision Medicine and Beyond
DESCRIPTION:TIME: 6:30 PM
URL:https://caribgp.org/event/asthma-theme-advancing-asthma-care-precision-medicine-and-beyond-2/
LOCATION:Virtual Seminar
CATEGORIES:Event
END:VEVENT
BEGIN:VEVENT
DTSTART;VALUE=DATE:20250624
DTEND;VALUE=DATE:20250625
DTSTAMP:20260425T094340
CREATED:20250124T062631Z
LAST-MODIFIED:20250124T062631Z
UID:3118-1750780800-1750867199@caribgp.org
SUMMARY:ASTHMA:  Theme: Advancing Asthma Care: Precision Medicine and Beyond
DESCRIPTION:TIME: 6:30 PM
URL:https://caribgp.org/event/asthma-theme-advancing-asthma-care-precision-medicine-and-beyond-3/
LOCATION:Virtual Seminar
CATEGORIES:Event
END:VEVENT
BEGIN:VEVENT
DTSTART;VALUE=DATE:20250628
DTEND;VALUE=DATE:20250629
DTSTAMP:20260425T094340
CREATED:20250124T034159Z
LAST-MODIFIED:20250124T034159Z
UID:3055-1751126400-1751212799@caribgp.org
SUMMARY:Theme: Emerging Infections and Public Health Preparedness
DESCRIPTION:TIME: @11:00AM
URL:https://caribgp.org/event/theme-emerging-infections-and-public-health-preparedness/
LOCATION:Virtual Conference
CATEGORIES:Event
END:VEVENT
BEGIN:VEVENT
DTSTART;VALUE=DATE:20250726
DTEND;VALUE=DATE:20250727
DTSTAMP:20260425T094340
CREATED:20250124T034423Z
LAST-MODIFIED:20250124T034423Z
UID:3057-1753545600-1753631999@caribgp.org
SUMMARY:THEME: Women’s Health Across the Life Stages OR Theme: Innovations in Women’s Health: Addressing Emerging Challenges and Opportunities
DESCRIPTION:TIME: @11:00AM
URL:https://caribgp.org/event/theme-womens-health-across-the-life-stages-or-theme-innovations-in-womens-health-addressing-emerging-challenges-and-opportunities/
LOCATION:Virtual Conference
CATEGORIES:Event
END:VEVENT
BEGIN:VEVENT
DTSTART;VALUE=DATE:20250813
DTEND;VALUE=DATE:20250814
DTSTAMP:20260425T094340
CREATED:20250124T034751Z
LAST-MODIFIED:20250124T034751Z
UID:3060-1755100800-1755187199@caribgp.org
SUMMARY:ASTHMA:  Theme: Advancing Asthma Care: Precision Medicine and Beyond
DESCRIPTION:TIME: @11:00AM
URL:https://caribgp.org/event/asthma-theme-advancing-asthma-care-precision-medicine-and-beyond/
LOCATION:Virtual Conference
CATEGORIES:Event
END:VEVENT
BEGIN:VEVENT
DTSTART;VALUE=DATE:20250813
DTEND;VALUE=DATE:20250814
DTSTAMP:20260425T094340
CREATED:20250124T062948Z
LAST-MODIFIED:20250124T062948Z
UID:3123-1755100800-1755187199@caribgp.org
SUMMARY:Ear\, Nose and Throat & Pathology of the eyes
DESCRIPTION:TIME: 6:00 PM
URL:https://caribgp.org/event/ear-nose-and-throat-pathology-of-the-eyes/
LOCATION:Virtual Seminar
CATEGORIES:Event
END:VEVENT
BEGIN:VEVENT
DTSTART;VALUE=DATE:20250913
DTEND;VALUE=DATE:20250914
DTSTAMP:20260425T094340
CREATED:20250124T035321Z
LAST-MODIFIED:20250124T035321Z
UID:3065-1757779200-1757865599@caribgp.org
SUMMARY:ENDOCRINOLOGY:  THEME: Advancing Endocrine Care: Innovations\, Challenges\, and Personalized Approaches
DESCRIPTION:TIME: @11:00AM
URL:https://caribgp.org/event/endocrinology-theme-advancing-endocrine-care-innovations-challenges-and-personalized-approaches/
LOCATION:Virtual Conference
CATEGORIES:Event
END:VEVENT
BEGIN:VEVENT
DTSTART;VALUE=DATE:20250924
DTEND;VALUE=DATE:20250925
DTSTAMP:20260425T094340
CREATED:20250124T063344Z
LAST-MODIFIED:20250124T063556Z
UID:3126-1758729600-1758815999@caribgp.org
SUMMARY:Geriatrics: Theme: Advancing Geriatric Care: Improving Quality of Life for Older Adults
DESCRIPTION:TIME: 6:30 PM
URL:https://caribgp.org/event/geriatrics-theme-advancing-geriatric-care-improving-quality-of-life-for-older-adults/
LOCATION:Virtual Seminar
CATEGORIES:Event
END:VEVENT
BEGIN:VEVENT
DTSTART;VALUE=DATE:20251008
DTEND;VALUE=DATE:20251009
DTSTAMP:20260425T094340
CREATED:20250124T064127Z
LAST-MODIFIED:20250124T064127Z
UID:3132-1759939200-1760025599@caribgp.org
SUMMARY:Geriatrics: Theme: Advancing Geriatric Care: Improving Quality of Life for Older Adults
DESCRIPTION:TIME: 6:30 PM
URL:https://caribgp.org/event/geriatrics-theme-advancing-geriatric-care-improving-quality-of-life-for-older-adults-2/
LOCATION:Virtual Seminar
CATEGORIES:Event
END:VEVENT
BEGIN:VEVENT
DTSTART;VALUE=DATE:20251015
DTEND;VALUE=DATE:20251016
DTSTAMP:20260425T094340
CREATED:20250124T064449Z
LAST-MODIFIED:20250124T064449Z
UID:3135-1760544000-1760630399@caribgp.org
SUMMARY:Dermatology in Practice: Managing Skin Disorders in Tropical Climates
DESCRIPTION:TIME: 6:30 PM
URL:https://caribgp.org/event/dermatology-in-practice-managing-skin-disorders-in-tropical-climates/
LOCATION:Virtual Seminar
CATEGORIES:Event
END:VEVENT
BEGIN:VEVENT
DTSTART;VALUE=DATE:20251018
DTEND;VALUE=DATE:20251019
DTSTAMP:20260425T094340
CREATED:20250124T035604Z
LAST-MODIFIED:20250124T035604Z
UID:3067-1760803200-1760889599@caribgp.org
SUMMARY:Heart Disease Theme: Modern Approaches to Managing Cardiovascular Disease + Oral Health & Heart Disease\, Rheumautic Heart Disease\, Dyslipidemia etc.*
DESCRIPTION:TIME: 11:00AM
URL:https://caribgp.org/event/heart-disease-theme-modern-approaches-to-managing-cardiovascular-disease-oral-health-heart-disease-rheumautic-heart-disease-dyslipidemia-etc/
LOCATION:Virtual Conference
CATEGORIES:Event
END:VEVENT
BEGIN:VEVENT
DTSTART;VALUE=DATE:20251122
DTEND;VALUE=DATE:20251123
DTSTAMP:20260425T094340
CREATED:20250124T035837Z
LAST-MODIFIED:20250124T035837Z
UID:3069-1763827200-1763913599@caribgp.org
SUMMARY:MENTAL HEALTH for the  Healthcare providers (1) Theme: Caring for the Caregivers: Mental Health and Wellbeing in Healthcare
DESCRIPTION:TIME: @11:00AM
URL:https://caribgp.org/event/mental-health-for-the-healthcare-providers-1-theme-caring-for-the-caregivers-mental-health-and-wellbeing-in-healthcare/
LOCATION:Virtual Conference
CATEGORIES:Event
END:VEVENT
BEGIN:VEVENT
DTSTART;VALUE=DATE:20251130
DTEND;VALUE=DATE:20261231
DTSTAMP:20260425T094340
CREATED:20250124T031515Z
LAST-MODIFIED:20251222T130335Z
UID:3035-1764518400-1798732799@caribgp.org
SUMMARY:WATCH ON DEMAND - MENTAL HEALTH & ETHICS – ADOLESCENTS HEALTH PT 3B
DESCRIPTION:  \n \nWATCH ON DEMAND AT THE LINK BELOW IF YOU WANT  CME CREDITS  \nON DEMAND SESSION LINK \nUse this Passcode: &.piVRf3    to access the video on demand.\nCMES: 2 MENTAL HEALTH & 2 ETHICS \nPAY BY CREDIT CARD AT LINK BELOW \nPAYMENT INFORMATION \na. The cost per certificate is J$2\,000.00. Kindly make the payment using one of the following methods \nThis link to make payment by Debit or Credit Card \nBank Transfer: \nBANK/BRANCH: NCB CONSTANT SPRING FINANCIAL CENTRE \nA/C # & TYPE: J$ BUSINESS CURRENT – #331001678 \nA/C NAME: CARIBBEAN COLLEGE OF FAMILY PHYSICIANS (CCFP OR CCFPJ) \nCME CERTIFICATES: PLEASE email ccfpsecretary@gmail.com a copy of your payment and request the CME Certificate \nREVIEW FORM: It is mandatory that the review form be completed\, in order to receive the CME certificate. The form can be accessed at this link: SURVEY LINK \n  \n  \n \n 
URL:https://caribgp.org/event/virtual-conferences-saturday-and-sunday-2/
LOCATION:Virtual Conference
CATEGORIES:Event
END:VEVENT
BEGIN:VEVENT
DTSTART;VALUE=DATE:20251210
DTEND;VALUE=DATE:20251211
DTSTAMP:20260425T094340
CREATED:20250124T064731Z
LAST-MODIFIED:20250124T064731Z
UID:3140-1765382400-1765468799@caribgp.org
SUMMARY:Pain Management: Opioid Use and Alternatives in the Caribbean
DESCRIPTION:TIME: 6:30 PM
URL:https://caribgp.org/event/pain-management-opioid-use-and-alternatives-in-the-caribbean/
LOCATION:Virtual Seminar
CATEGORIES:Event
END:VEVENT
BEGIN:VEVENT
DTSTART;VALUE=DATE:20251213
DTEND;VALUE=DATE:20251214
DTSTAMP:20260425T094340
CREATED:20250124T040215Z
LAST-MODIFIED:20250124T040215Z
UID:3071-1765641600-1765727999@caribgp.org
SUMMARY:BIOETHICS  Theme: Navigating Complex Ethical Dilemmas in Modern Medicine
DESCRIPTION:TIME: 11:00AM
URL:https://caribgp.org/event/bioethics-theme-navigating-complex-ethical-dilemmas-in-modern-medicine/
LOCATION:Virtual Conference
CATEGORIES:Event
END:VEVENT
END:VCALENDAR