BEGIN:VCALENDAR
VERSION:2.0
PRODID:-//caribgp - ECPv6.15.20//NONSGML v1.0//EN
CALSCALE:GREGORIAN
METHOD:PUBLISH
X-ORIGINAL-URL:https://caribgp.org
X-WR-CALDESC:Events for caribgp
REFRESH-INTERVAL;VALUE=DURATION:PT1H
X-Robots-Tag:noindex
X-PUBLISHED-TTL:PT1H
BEGIN:VTIMEZONE
TZID:America/Jamaica
BEGIN:STANDARD
TZOFFSETFROM:-0500
TZOFFSETTO:-0500
TZNAME:EST
DTSTART:20231231T160000
END:STANDARD
END:VTIMEZONE
BEGIN:VEVENT
DTSTART;VALUE=DATE:20250315
DTEND;VALUE=DATE:20250316
DTSTAMP:20260424T201139
CREATED:20250124T032058Z
LAST-MODIFIED:20250124T032058Z
UID:3042-1742054400-1742140799@caribgp.org
SUMMARY:DLS Virtual Conference
DESCRIPTION:TIME: @11:00AM
URL:https://caribgp.org/event/dls-virtual-conference/
LOCATION:Virtual Conference
CATEGORIES:Event
END:VEVENT
END:VCALENDAR