BEGIN:VCALENDAR
VERSION:2.0
PRODID:-//caribgp - ECPv6.15.20//NONSGML v1.0//EN
CALSCALE:GREGORIAN
METHOD:PUBLISH
X-ORIGINAL-URL:https://caribgp.org
X-WR-CALDESC:Events for caribgp
REFRESH-INTERVAL;VALUE=DURATION:PT1H
X-Robots-Tag:noindex
X-PUBLISHED-TTL:PT1H
BEGIN:VTIMEZONE
TZID:America/Jamaica
BEGIN:STANDARD
TZOFFSETFROM:-0500
TZOFFSETTO:-0500
TZNAME:EST
DTSTART:20231231T160000
END:STANDARD
END:VTIMEZONE
BEGIN:VEVENT
DTSTART;VALUE=DATE:20250124
DTEND;VALUE=DATE:20250125
DTSTAMP:20260425T054404
CREATED:20250124T040959Z
LAST-MODIFIED:20250124T040959Z
UID:3076-1737734400-1737820799@caribgp.org
SUMMARY:Theme: Transforming Primary Care with Technology: AI\, Ethics\, and Digital Health
DESCRIPTION:TIME: 11:00AM
URL:https://caribgp.org/event/theme-transforming-primary-care-with-technology-ai-ethics-and-digital-health/
LOCATION:Virtual Conference
CATEGORIES:Event
END:VEVENT
END:VCALENDAR