BEGIN:VCALENDAR
VERSION:2.0
PRODID:-//caribgp - ECPv6.15.20//NONSGML v1.0//EN
CALSCALE:GREGORIAN
METHOD:PUBLISH
X-WR-CALNAME:caribgp
X-ORIGINAL-URL:https://caribgp.org
X-WR-CALDESC:Events for caribgp
REFRESH-INTERVAL;VALUE=DURATION:PT1H
X-Robots-Tag:noindex
X-PUBLISHED-TTL:PT1H
BEGIN:VTIMEZONE
TZID:America/Jamaica
BEGIN:STANDARD
TZOFFSETFROM:-0500
TZOFFSETTO:-0500
TZNAME:EST
DTSTART:20231231T160000
END:STANDARD
END:VTIMEZONE
BEGIN:VEVENT
DTSTART;VALUE=DATE:20250913
DTEND;VALUE=DATE:20250914
DTSTAMP:20260424T035712
CREATED:20250124T035321Z
LAST-MODIFIED:20250124T035321Z
UID:3065-1757779200-1757865599@caribgp.org
SUMMARY:ENDOCRINOLOGY:  THEME: Advancing Endocrine Care: Innovations\, Challenges\, and Personalized Approaches
DESCRIPTION:TIME: @11:00AM
URL:https://caribgp.org/event/endocrinology-theme-advancing-endocrine-care-innovations-challenges-and-personalized-approaches/
LOCATION:Virtual Conference
CATEGORIES:Event
END:VEVENT
BEGIN:VEVENT
DTSTART;VALUE=DATE:20250924
DTEND;VALUE=DATE:20250925
DTSTAMP:20260424T035712
CREATED:20250124T063344Z
LAST-MODIFIED:20250124T063556Z
UID:3126-1758729600-1758815999@caribgp.org
SUMMARY:Geriatrics: Theme: Advancing Geriatric Care: Improving Quality of Life for Older Adults
DESCRIPTION:TIME: 6:30 PM
URL:https://caribgp.org/event/geriatrics-theme-advancing-geriatric-care-improving-quality-of-life-for-older-adults/
LOCATION:Virtual Seminar
CATEGORIES:Event
END:VEVENT
END:VCALENDAR