BEGIN:VCALENDAR
VERSION:2.0
PRODID:-//caribgp - ECPv6.15.20//NONSGML v1.0//EN
CALSCALE:GREGORIAN
METHOD:PUBLISH
X-WR-CALNAME:caribgp
X-ORIGINAL-URL:https://caribgp.org
X-WR-CALDESC:Events for caribgp
REFRESH-INTERVAL;VALUE=DURATION:PT1H
X-Robots-Tag:noindex
X-PUBLISHED-TTL:PT1H
BEGIN:VTIMEZONE
TZID:America/Jamaica
BEGIN:STANDARD
TZOFFSETFROM:-0500
TZOFFSETTO:-0500
TZNAME:EST
DTSTART:20231231T160000
END:STANDARD
END:VTIMEZONE
BEGIN:VEVENT
DTSTART;VALUE=DATE:20250726
DTEND;VALUE=DATE:20250727
DTSTAMP:20260424T134120
CREATED:20250124T034423Z
LAST-MODIFIED:20250124T034423Z
UID:3057-1753545600-1753631999@caribgp.org
SUMMARY:THEME: Women’s Health Across the Life Stages OR Theme: Innovations in Women’s Health: Addressing Emerging Challenges and Opportunities
DESCRIPTION:TIME: @11:00AM
URL:https://caribgp.org/event/theme-womens-health-across-the-life-stages-or-theme-innovations-in-womens-health-addressing-emerging-challenges-and-opportunities/
LOCATION:Virtual Conference
CATEGORIES:Event
END:VEVENT
END:VCALENDAR