BEGIN:VCALENDAR
VERSION:2.0
PRODID:-//caribgp - ECPv6.15.20//NONSGML v1.0//EN
CALSCALE:GREGORIAN
METHOD:PUBLISH
X-WR-CALNAME:caribgp
X-ORIGINAL-URL:https://caribgp.org
X-WR-CALDESC:Events for caribgp
REFRESH-INTERVAL;VALUE=DURATION:PT1H
X-Robots-Tag:noindex
X-PUBLISHED-TTL:PT1H
BEGIN:VTIMEZONE
TZID:America/Jamaica
BEGIN:STANDARD
TZOFFSETFROM:-0500
TZOFFSETTO:-0500
TZNAME:EST
DTSTART:20211231T160000
END:STANDARD
END:VTIMEZONE
BEGIN:VEVENT
DTSTART;VALUE=DATE:20231201
DTEND;VALUE=DATE:20251231
DTSTAMP:20260424T173400
CREATED:20231202T025222Z
LAST-MODIFIED:20231202T233857Z
UID:2611-1701446400-1767196799@caribgp.org
SUMMARY:WHO Online Course - Diagnosis and clinical management of dengue
DESCRIPTION:INTRODUCTION TO THE COURSE\nDengue is a viral infectious disease and represents one of the main reasons for medical consultation in health units in the countries and territories of the Americas. Recognizing and clinically diagnosing the disease early and offering timely and appropriate treatment can mean the difference between life and death for those suffering from the disease. For this reason\, it is necessary that the medical personnel in charge of caring for cases with suspected dengue are properly trained and sensitized in the management of these patients. \nTo this end\, the Pan American Health Organization/World Health Organization (PAHO/WHO)\, in joint work with the Global Health Consortium\, Robert Stempel School of Public Health and Social Work at Florida International University (FIU )\, have developed the first online course for the diagnosis and clinical management of dengue. \nThis course was developed with a comprehensive vision and is divided into seven modules that include epidemiological information on dengue\, pathophysiology of clinical manifestations\, clinical diagnosis and differential diagnosis\, classification of severity\, recommendations for the management of dengue according to its severity and in patients. with comorbidities. In addition\, the course offers basic aspects on the organization and reorganization of health services during dengue epidemics\, which also plays an important role in saving the lives of patients. \nPURPOSE\nThe purpose of this course is to provide health personnel in charge of caring for suspected cases of dengue with the necessary information to make a timely diagnosis and clinical management\, avoiding progression to severe forms and deaths caused by this disease. \nLEARNING OBJECTIVES\nAt the end of the course\, participants will be able to: \n\nDemonstrate familiarity with the epidemiology of dengue.\nDescribe the pathophysiological features of dengue.\nRecognize the clinical manifestations of dengue and make a differential clinical diagnosis.\nDefine the case\, recognize the warning signs and classify according to the severity of dengue.\nApply recommendations for the treatment of dengue according to its severity.\nKnow the main aspects of dengue associated with comorbidities and special conditions.\nExplain the need and means for reorganization of health services during a dengue outbreak.\n\nRECIPIENTS\nThe course is aimed at specialist doctors\, general practitioners\, nursing staff\, as well as medical and nursing students\, and all personnel who in one way or another are involved in the care of patients with suspected dengue\, in all areas. levels of health care\, but mainly at the first level of care. \nCOURSE DURATION\nApproximately 20 hours. \nCOURSE MODALITY\nSelf-learning course\, free\, open to the public and without deadlines to complete it. \nCOURSE STRUCTURE \n\nIntroduction Module\nModule 1: Dengue Epidemiology\nModule 2: Pathophysiology of clinical manifestations\nModule 3: Clinical manifestations\nModule 4: Case definition and severity classification\nModule 5: Recommendations for treatment\nModule 6: Dengue associated with comorbidities and special conditions\nModule 7: Organization and reorganization of health services\n\nACCESS TO COURSE: Please access the course by clicking on this link. \nREFERENCES \n\nDengue: guidelines for the care of patients in the Region of the Americas. 2nd ed.\nHealth Information Platform for the Americas (PLISA): dengue
URL:https://caribgp.org/event/who-online-course-diagnosis-and-clinical-management-of-dengue/
END:VEVENT
BEGIN:VEVENT
DTSTART;TZID=America/Jamaica:20250624T093000
DTEND;TZID=America/Jamaica:20250624T123000
DTSTAMP:20260424T173400
CREATED:20250608T140940Z
LAST-MODIFIED:20250608T140940Z
UID:3358-1750757400-1750768200@caribgp.org
SUMMARY:Chronic Sinusitis & Navigating Skin Breakouts
DESCRIPTION:Upcoming CME Event\nTitle: Chronic Sinusitis & Navigating Skin BreakoutsDate: Tuesday\, June 24\, 2025Time: 5:30 PM – 8:50 PMVenue: AC Marriott Hotel\, KingstonFormat: In-PersonCME Credits: 2.0 HoursCost: Free to Attend | Free CME Certificate \n\nThe Caribbean College of Family Physicians (Jamaica Chapter)\, in collaboration with Glenmark Pharmaceuticals\, invites you to an insightful Continuing Medical Education (CME) session designed to advance clinical knowledge and strengthen patient care strategies in two common yet often complex areas of practice: Chronic Sinusitis and Skin Breakouts. \nThis in-person event will feature presentations by two respected local experts: \n\n\nDr. Warren Mullings \n\n\nDr. Donna Braham \n\n\nThe session will cover: \n\n\nEvidence-based management of allergic rhinitis and chronic sinusitis \n\n\nPractical approaches to diagnosing and treating common skin conditions \n\n\nReview of current clinical guidelines and emerging research \n\n\nCase-based learning to reinforce application in real-world settings \n\n\nEducational Format:Participants will benefit from interactive lectures\, clinical case discussions\, and a concluding Q&A session designed to deepen understanding and encourage professional exchange. \nWho Should Attend:This event is ideal for family physicians\, general practitioners\, nurses\, and allied healthcare professionals looking to strengthen their approach to ENT and dermatologic conditions commonly seen in primary care. \nHow to Attend:Free admission and CME Certificate.To register or receive additional information\, please contact:Krisan L. Thomas (Glenmark Pharmaceuticals)📧 krisann.glenmark@gmail.com📞 876-351-4467 \n\nCME Organizer:Caribbean College of Family Physicians (Jamaica Chapter)📍 19A Windsor Avenue\, Kingston 5📧 ccfpjachapter1988@gmail.com📠 876-946-0954 | ☎️ 876-517-6636 \nWe look forward to welcoming you to this dynamic learning experience! \nhttps://www.ccfpjamaica.com/wp-content/uploads/2025/06/CME-PROGRAM-JUNE-242025.pdf
URL:https://caribgp.org/event/chronic-sinusitis-navigating-skin-breakouts/
LOCATION:AC HOTEL\, KINGSTON\, Jamaica
END:VEVENT
BEGIN:VEVENT
DTSTART;TZID=America/Jamaica:20250624T100000
DTEND;TZID=America/Jamaica:20250624T130000
DTSTAMP:20260424T173400
CREATED:20250608T132449Z
LAST-MODIFIED:20250608T134559Z
UID:3355-1750759200-1750770000@caribgp.org
SUMMARY:Cardio Protection Beyond Blood Pressure Control in High-Risk Hypertensive Patients
DESCRIPTION:Upcoming CME Event\nTitle: Cardio Protection Beyond Blood Pressure Control in High-Risk Hypertensive PatientsDate: June 24\, 2025Time: 6:30 PM – 9:00 PMFormat: HybridLocation: Jamaica Pegasus Hotel & OnlineCME Credits: 1.2 HoursCost: Free to Attend | Free CME Certificate \n\nJoin the Association of General Practitioners of Jamaica (AGPJ) and MERCK for an engaging and insightful Continuing Medical Education (CME) event focused on the evolving landscape of hypertension management. This session\, entitled “Cardio Protection Beyond Blood Pressure Control in High-Risk Hypertensive Patients\,” aims to expand clinicians’ knowledge of cardioprotective strategies that go beyond traditional blood pressure management. \nThis hybrid CME activity is tailored for physicians\, pharmacists\, and healthcare professionals who manage patients at elevated cardiovascular risk due to hypertension. The event will feature: \n\n\nExpert-led PowerPoint presentations \n\n\nCase-based discussions \n\n\nInteractive polling for real-time feedback \n\n\nA live Q&A session with our  speaker \n\n\nLearning Objectives: \n\n\nUnderstand the latest clinical insights into cardiovascular protection in high-risk hypertensive populations \n\n\nApply emerging therapeutic approaches to improve patient outcomes \n\n\nStrengthen key messaging for medical sales representatives to support informed prescribing \n\n\nHow to Attend:This event is free of charge and open to all interested healthcare professionals. A CME Certificate will be issued at no cost to participants. \nTo register or obtain further details\, please contact:Charmaine Henton\, MERCK Representative📧 charmaine.bowman@merckgroup.com📞 876-877-8629 \n\nCME Organizer:Association of General Practitioners of Jamaica19A Windsor Avenue\, Kingston 10📧 agpjamaica@gmail.com | 📞 876-517-6636 | Tel/Fax: 876-946-0954 \nWe look forward to your participation in this informative and impactful session! \nAgenda June 24\, 2025 meeting \n 
URL:https://caribgp.org/event/cardio-protection-beyond-blood-pressure-control-in-high-risk-hypertensive-patients/
LOCATION:Jamaica Pegasus Hotel\, Jamaica
END:VEVENT
END:VCALENDAR